BEGIN:VCALENDAR
PRODID:-//LEMNISCUS//ical//DE
VERSION:2.0
CALSCALE:GREGORIAN
X-PUBLISHED-TTL:PT5M
X-WR-CALNAME:LEMNISCUS
X-WR-CALDESC:LEMNISCUS Terminkaledar Abo
BEGIN:VTIMEZONE
TZID:Europe/Berlin
LAST-MODIFIED:20250121T082933Z
TZURL:https://www.tzurl.org/zoneinfo/Europe/Berlin
X-LIC-LOCATION:Europe/Berlin
X-PROLEPTIC-TZNAME:LMT
BEGIN:STANDARD
TZNAME:CET
TZOFFSETFROM:+005328
TZOFFSETTO:+0100
DTSTART:18930401T000000
END:STANDARD
BEGIN:DAYLIGHT
TZNAME:CEST
TZOFFSETFROM:+0100
TZOFFSETTO:+0200
DTSTART:19160430T230000
RDATE:19400401T020000
RDATE:19430329T020000
RDATE:19460414T020000
RDATE:19470406T030000
RDATE:19480418T020000
RDATE:19490410T020000
RDATE:19800406T020000
END:DAYLIGHT
BEGIN:STANDARD
TZNAME:CET
TZOFFSETFROM:+0200
TZOFFSETTO:+0100
DTSTART:19161001T010000
RDATE:19421102T030000
RDATE:19431004T030000
RDATE:19441002T030000
RDATE:19451118T030000
RDATE:19461007T030000
END:STANDARD
BEGIN:DAYLIGHT
TZNAME:CEST
TZOFFSETFROM:+0100
TZOFFSETTO:+0200
DTSTART:19170416T020000
RRULE:FREQ=YEARLY;UNTIL=19180415T010000Z;BYMONTH=4;BYDAY=3MO
END:DAYLIGHT
BEGIN:STANDARD
TZNAME:CET
TZOFFSETFROM:+0200
TZOFFSETTO:+0100
DTSTART:19170917T030000
RRULE:FREQ=YEARLY;UNTIL=19180916T010000Z;BYMONTH=9;BYDAY=3MO
END:STANDARD
BEGIN:DAYLIGHT
TZNAME:CEST
TZOFFSETFROM:+0100
TZOFFSETTO:+0200
DTSTART:19440403T020000
RRULE:FREQ=YEARLY;UNTIL=19450402T010000Z;BYMONTH=4;BYDAY=1MO
END:DAYLIGHT
BEGIN:DAYLIGHT
TZNAME:CEMT
TZOFFSETFROM:+0200
TZOFFSETTO:+0300
DTSTART:19450524T020000
RDATE:19470511T030000
END:DAYLIGHT
BEGIN:DAYLIGHT
TZNAME:CEST
TZOFFSETFROM:+0300
TZOFFSETTO:+0200
DTSTART:19450924T030000
RDATE:19470629T030000
END:DAYLIGHT
BEGIN:STANDARD
TZNAME:CET
TZOFFSETFROM:+0100
TZOFFSETTO:+0100
DTSTART:19460101T000000
RDATE:19800101T000000
END:STANDARD
BEGIN:STANDARD
TZNAME:CET
TZOFFSETFROM:+0200
TZOFFSETTO:+0100
DTSTART:19471005T030000
RRULE:FREQ=YEARLY;UNTIL=19491002T010000Z;BYMONTH=10;BYDAY=1SU
END:STANDARD
BEGIN:STANDARD
TZNAME:CET
TZOFFSETFROM:+0200
TZOFFSETTO:+0100
DTSTART:19800928T030000
RRULE:FREQ=YEARLY;UNTIL=19950924T010000Z;BYMONTH=9;BYDAY=-1SU
END:STANDARD
BEGIN:DAYLIGHT
TZNAME:CEST
TZOFFSETFROM:+0100
TZOFFSETTO:+0200
DTSTART:19810329T020000
RRULE:FREQ=YEARLY;BYMONTH=3;BYDAY=-1SU
END:DAYLIGHT
BEGIN:STANDARD
TZNAME:CET
TZOFFSETFROM:+0200
TZOFFSETTO:+0100
DTSTART:19961027T030000
RRULE:FREQ=YEARLY;BYMONTH=10;BYDAY=-1SU
END:STANDARD
END:VTIMEZONE
BEGIN:VEVENT
DTSTAMP:20260421T124137Z
DTSTART;VALUE=DATE:20260216
SUMMARY:Winterferien (Bayern) [Rm:Alle]
UID:dc39cab1-55c4-45ba-b7fa-75c2c6545978
END:VEVENT
BEGIN:VEVENT
DTSTAMP:20260421T124137Z
DTSTART;VALUE=DATE:20260217
SUMMARY:Winterferien (Bayern) [Rm:Alle]
UID:2053e24f-542d-4c68-a347-dc82b5692173
END:VEVENT
BEGIN:VEVENT
DTSTAMP:20260421T124137Z
DTSTART;VALUE=DATE:20260218
SUMMARY:Winterferien (Bayern) [Rm:Alle]
UID:ae6c3396-648e-4754-bbee-3e0c6959f016
END:VEVENT
BEGIN:VEVENT
DTSTAMP:20260421T124137Z
DTSTART;VALUE=DATE:20260219
SUMMARY:Winterferien (Bayern) [Rm:Alle]
UID:5d973b86-062a-4201-8975-b87cbf8e0c67
END:VEVENT
BEGIN:VEVENT
DTSTAMP:20260421T124137Z
DTSTART;VALUE=DATE:20260220
SUMMARY:Winterferien (Bayern) [Rm:Alle]
UID:4cb9d043-f182-431e-933e-3777a9a815e4
END:VEVENT
BEGIN:VEVENT
DTSTAMP:20260421T124137Z
DTSTART;VALUE=DATE:20260330
SUMMARY:Osterferien (Bayern) [Rm:Alle]
UID:d7a12eb6-0926-45cb-a769-7ef2f2401b82
END:VEVENT
BEGIN:VEVENT
DTSTAMP:20260421T124137Z
DTSTART;VALUE=DATE:20260331
SUMMARY:Osterferien (Bayern) [Rm:Alle]
UID:cb5cc853-0e31-4abf-9315-8d9e9bf8d5ac
END:VEVENT
BEGIN:VEVENT
DTSTAMP:20260421T124137Z
DTSTART;VALUE=DATE:20260401
SUMMARY:Osterferien (Bayern) [Rm:Alle]
UID:35d5df51-d340-406c-a8cf-2236f0a2a2b9
END:VEVENT
BEGIN:VEVENT
DTSTAMP:20260421T124137Z
DTSTART;VALUE=DATE:20260402
SUMMARY:Osterferien (Bayern) [Rm:Alle]
UID:28516648-da7e-4428-8d45-b39d73269c45
END:VEVENT
BEGIN:VEVENT
DTSTAMP:20260421T124137Z
DTSTART;VALUE=DATE:20260403
SUMMARY:Osterferien (Bayern) [Rm:Alle]
UID:a954ceec-9a35-4c3d-9bae-373c4ce3a7f9
END:VEVENT
BEGIN:VEVENT
DTSTAMP:20260421T124137Z
DTSTART;VALUE=DATE:20260403
SUMMARY:Karfreitag [Rm:Alle]
UID:dc46f689-f98c-499d-93e1-31e5b6987740
END:VEVENT
BEGIN:VEVENT
DTSTAMP:20260421T124137Z
DTSTART;VALUE=DATE:20260404
SUMMARY:Osterferien (Bayern) [Rm:Alle]
UID:3b16227f-f1ae-4bb8-a260-26f0068bab89
END:VEVENT
BEGIN:VEVENT
DTSTAMP:20260421T124137Z
DTSTART;VALUE=DATE:20260405
SUMMARY:Osterferien (Bayern) [Rm:Alle]
UID:ca1a52b7-abfb-4eb6-b1be-0c45cb7e722a
END:VEVENT
BEGIN:VEVENT
DTSTAMP:20260421T124137Z
DTSTART;VALUE=DATE:20260406
SUMMARY:Ostermontag [Rm:Alle]
UID:24c25b22-278c-40e2-9059-e8ead98fb6d1
END:VEVENT
BEGIN:VEVENT
DTSTAMP:20260421T124137Z
DTSTART;VALUE=DATE:20260406
SUMMARY:Osterferien (Bayern) [Rm:Alle]
UID:c466ade8-4a20-4815-a6db-e38cfbe46ec4
END:VEVENT
BEGIN:VEVENT
DTSTAMP:20260421T124137Z
DTSTART;VALUE=DATE:20260407
SUMMARY:Osterferien (Bayern) [Rm:Alle]
UID:c764f7d1-db58-4e02-b754-f3da0b2cef98
END:VEVENT
BEGIN:VEVENT
DTSTAMP:20260421T124137Z
DTSTART;VALUE=DATE:20260408
SUMMARY:Osterferien (Bayern) [Rm:Alle]
UID:5bb0b5ff-a5d2-4d37-a912-79acea878665
END:VEVENT
BEGIN:VEVENT
DTSTAMP:20260421T124137Z
DTSTART;VALUE=DATE:20260409
SUMMARY:Osterferien (Bayern) [Rm:Alle]
UID:1d6fd8b5-f698-46c0-8fb2-0ebbc13d6f6a
END:VEVENT
BEGIN:VEVENT
DTSTAMP:20260421T124137Z
DTSTART;VALUE=DATE:20260410
SUMMARY:Osterferien (Bayern) [Rm:Alle]
UID:ac7e1ca7-57ba-414f-b77f-27cee6f0788a
END:VEVENT
BEGIN:VEVENT
DTSTAMP:20260421T124137Z
DTSTART;VALUE=DATE:20260501
SUMMARY:Tag der Arbeit [Rm:Alle]
UID:dd311e3f-a47e-49b9-89f1-acb182ac4263
END:VEVENT
BEGIN:VEVENT
DTSTAMP:20260421T124137Z
DTSTART;VALUE=DATE:20260514
SUMMARY:Christi Himmelfahrt [Rm:Alle]
UID:6734e117-f387-4024-b003-6a4b404ada78
END:VEVENT
BEGIN:VEVENT
DTSTAMP:20260421T124137Z
DTSTART;VALUE=DATE:20260525
SUMMARY:Pfingstmontag [Rm:Alle]
UID:367491f2-2ba0-4ef8-901c-0025a43d310e
END:VEVENT
BEGIN:VEVENT
DTSTAMP:20260421T124137Z
DTSTART;VALUE=DATE:20260526
SUMMARY:Pfingstferien (Bayern) [Rm:Alle]
UID:e9fc01e4-7476-4a02-b7f8-3b9d061d62f4
END:VEVENT
BEGIN:VEVENT
DTSTAMP:20260421T124137Z
DTSTART;VALUE=DATE:20260527
SUMMARY:Pfingstferien (Bayern) [Rm:Alle]
UID:033434a9-a937-4965-b138-d27d97049e09
END:VEVENT
BEGIN:VEVENT
DTSTAMP:20260421T124137Z
DTSTART;VALUE=DATE:20260528
SUMMARY:Pfingstferien (Bayern) [Rm:Alle]
UID:196403ee-ef71-499b-a4cc-393ea47a93fe
END:VEVENT
BEGIN:VEVENT
DTSTAMP:20260421T124137Z
DTSTART;VALUE=DATE:20260529
SUMMARY:Pfingstferien (Bayern) [Rm:Alle]
UID:5f0ed0b3-310d-4b66-8748-06c82edaa177
END:VEVENT
BEGIN:VEVENT
DTSTAMP:20260421T124137Z
DTSTART;VALUE=DATE:20260530
SUMMARY:Pfingstferien (Bayern) [Rm:Alle]
UID:8832555f-58d1-42e2-b3ce-1e10d780ee15
END:VEVENT
BEGIN:VEVENT
DTSTAMP:20260421T124137Z
DTSTART;VALUE=DATE:20260531
SUMMARY:Pfingstferien (Bayern) [Rm:Alle]
UID:6eb7ad2a-1401-4312-ab0c-223472b0a17b
END:VEVENT
BEGIN:VEVENT
DTSTAMP:20260421T124137Z
DTSTART;VALUE=DATE:20260601
SUMMARY:Pfingstferien (Bayern) [Rm:Alle]
UID:6f647226-46cb-444c-b6b9-775b2a623e1e
END:VEVENT
BEGIN:VEVENT
DTSTAMP:20260421T124137Z
DTSTART;VALUE=DATE:20260602
SUMMARY:Pfingstferien (Bayern) [Rm:Alle]
UID:ff515551-a52b-4957-a43f-f29b323aec97
END:VEVENT
BEGIN:VEVENT
DTSTAMP:20260421T124137Z
DTSTART;VALUE=DATE:20260603
SUMMARY:Pfingstferien (Bayern) [Rm:Alle]
UID:c4c5d533-95e8-4c23-a20a-b25ca73fe479
END:VEVENT
BEGIN:VEVENT
DTSTAMP:20260421T124137Z
DTSTART;VALUE=DATE:20260604
SUMMARY:Fronleichnam [Rm:Alle]
UID:3bf652d0-4f51-445e-b89e-8b19b505fd66
END:VEVENT
BEGIN:VEVENT
DTSTAMP:20260421T124137Z
DTSTART;VALUE=DATE:20260604
SUMMARY:Pfingstferien (Bayern) [Rm:Alle]
UID:8fee65c2-7250-4a5b-96b7-653d87f70848
END:VEVENT
BEGIN:VEVENT
DTSTAMP:20260421T124137Z
DTSTART;VALUE=DATE:20260605
SUMMARY:Pfingstferien (Bayern) [Rm:Alle]
UID:e62b0899-1aa6-4101-b93b-6078eca247d3
END:VEVENT
BEGIN:VEVENT
DTSTAMP:20260421T124137Z
DTSTART;VALUE=DATE:20260803
SUMMARY:Sommerferien (Bayern) [Rm:Alle]
UID:1e87ff35-ecf4-4f9a-add0-645d348827d3
END:VEVENT
BEGIN:VEVENT
DTSTAMP:20260421T124137Z
DTSTART;VALUE=DATE:20260804
SUMMARY:Sommerferien (Bayern) [Rm:Alle]
UID:5af35106-317f-45b2-9f9f-cdfa542e019e
END:VEVENT
BEGIN:VEVENT
DTSTAMP:20260421T124137Z
DTSTART;VALUE=DATE:20260805
SUMMARY:Sommerferien (Bayern) [Rm:Alle]
UID:1b63d928-825c-4e9c-bde4-6f9cadb2db7d
END:VEVENT
BEGIN:VEVENT
DTSTAMP:20260421T124137Z
DTSTART;VALUE=DATE:20260806
SUMMARY:Sommerferien (Bayern) [Rm:Alle]
UID:bc98f992-4e72-460b-8bd6-7ab4d548cc4f
END:VEVENT
BEGIN:VEVENT
DTSTAMP:20260421T124137Z
DTSTART;VALUE=DATE:20260807
SUMMARY:Sommerferien (Bayern) [Rm:Alle]
UID:80e630b0-07d0-4685-a4f3-43b2ca576f70
END:VEVENT
BEGIN:VEVENT
DTSTAMP:20260421T124137Z
DTSTART;VALUE=DATE:20260808
SUMMARY:Sommerferien (Bayern) [Rm:Alle]
UID:9925098a-6630-4c32-b75b-2429b1789682
END:VEVENT
BEGIN:VEVENT
DTSTAMP:20260421T124137Z
DTSTART;VALUE=DATE:20260809
SUMMARY:Sommerferien (Bayern) [Rm:Alle]
UID:ed082fcf-81a1-4e04-93ac-423a619afbb2
END:VEVENT
BEGIN:VEVENT
DTSTAMP:20260421T124137Z
DTSTART;VALUE=DATE:20260810
SUMMARY:Sommerferien (Bayern) [Rm:Alle]
UID:dcc4d43b-12b6-49dc-92ac-72d38f858086
END:VEVENT
BEGIN:VEVENT
DTSTAMP:20260421T124137Z
DTSTART;VALUE=DATE:20260811
SUMMARY:Sommerferien (Bayern) [Rm:Alle]
UID:17dd0c1d-d821-40cf-9a36-f80b70c044c7
END:VEVENT
BEGIN:VEVENT
DTSTAMP:20260421T124137Z
DTSTART;VALUE=DATE:20260812
SUMMARY:Sommerferien (Bayern) [Rm:Alle]
UID:18d0feb2-a1d6-431d-8d50-40f589daffb1
END:VEVENT
BEGIN:VEVENT
DTSTAMP:20260421T124137Z
DTSTART;VALUE=DATE:20260813
SUMMARY:Sommerferien (Bayern) [Rm:Alle]
UID:344a36c8-8cd6-4ac9-b6f8-1fea8373b085
END:VEVENT
BEGIN:VEVENT
DTSTAMP:20260421T124137Z
DTSTART;VALUE=DATE:20260814
SUMMARY:Sommerferien (Bayern) [Rm:Alle]
UID:699f5ef5-d07e-4400-8a31-3a8ba8839307
END:VEVENT
BEGIN:VEVENT
DTSTAMP:20260421T124137Z
DTSTART;VALUE=DATE:20260815
SUMMARY:Mariä Himmelfahrt [Rm:Alle]
UID:15b611d0-c779-4861-860a-83ad22010094
END:VEVENT
BEGIN:VEVENT
DTSTAMP:20260421T124137Z
DTSTART;VALUE=DATE:20260815
SUMMARY:Sommerferien (Bayern) [Rm:Alle]
UID:b2509197-dc33-4ede-9ef4-1fef2627d048
END:VEVENT
BEGIN:VEVENT
DTSTAMP:20260421T124137Z
DTSTART;VALUE=DATE:20260816
SUMMARY:Sommerferien (Bayern) [Rm:Alle]
UID:3d1d93f8-9211-4f71-84f9-620d84355e29
END:VEVENT
BEGIN:VEVENT
DTSTAMP:20260421T124137Z
DTSTART;VALUE=DATE:20260817
SUMMARY:Sommerferien (Bayern) [Rm:Alle]
UID:07694f2c-0cd2-4e71-b071-7ef1aefdb2ac
END:VEVENT
BEGIN:VEVENT
DTSTAMP:20260421T124137Z
DTSTART;VALUE=DATE:20260818
SUMMARY:Sommerferien (Bayern) [Rm:Alle]
UID:bf7503c1-00fb-41e0-94fa-4c712044009f
END:VEVENT
BEGIN:VEVENT
DTSTAMP:20260421T124137Z
DTSTART;VALUE=DATE:20260819
SUMMARY:Sommerferien (Bayern) [Rm:Alle]
UID:853d7a86-a3be-4830-8b1f-52d44cc295ce
END:VEVENT
BEGIN:VEVENT
DTSTAMP:20260421T124137Z
DTSTART;VALUE=DATE:20260820
SUMMARY:Sommerferien (Bayern) [Rm:Alle]
UID:49e6c96b-2836-4711-8c1a-d38593709d20
END:VEVENT
BEGIN:VEVENT
DTSTAMP:20260421T124137Z
DTSTART;VALUE=DATE:20260821
SUMMARY:Sommerferien (Bayern) [Rm:Alle]
UID:ccd63e8c-8128-4602-8e30-adfb99fe8262
END:VEVENT
BEGIN:VEVENT
DTSTAMP:20260421T124137Z
DTSTART;VALUE=DATE:20260822
SUMMARY:Sommerferien (Bayern) [Rm:Alle]
UID:819ab45c-2adb-40d6-9cc7-cda53e6aee81
END:VEVENT
BEGIN:VEVENT
DTSTAMP:20260421T124137Z
DTSTART;VALUE=DATE:20260823
SUMMARY:Sommerferien (Bayern) [Rm:Alle]
UID:550e37d5-139d-4524-b0e4-4bbff2db4d9d
END:VEVENT
BEGIN:VEVENT
DTSTAMP:20260421T124137Z
DTSTART;VALUE=DATE:20260824
SUMMARY:Sommerferien (Bayern) [Rm:Alle]
UID:4a8444f1-23eb-4f3b-8e6b-b1515cfa3ac5
END:VEVENT
BEGIN:VEVENT
DTSTAMP:20260421T124137Z
DTSTART;VALUE=DATE:20260825
SUMMARY:Sommerferien (Bayern) [Rm:Alle]
UID:f2dac177-6ba7-4d18-bd4b-bb2b5c6a3247
END:VEVENT
BEGIN:VEVENT
DTSTAMP:20260421T124137Z
DTSTART;VALUE=DATE:20260826
SUMMARY:Sommerferien (Bayern) [Rm:Alle]
UID:38fd6308-f8bc-4d10-b624-7a9a5ddb19ab
END:VEVENT
BEGIN:VEVENT
DTSTAMP:20260421T124137Z
DTSTART;VALUE=DATE:20260827
SUMMARY:Sommerferien (Bayern) [Rm:Alle]
UID:44c6d5b4-955d-4b49-8955-24cafe1f16eb
END:VEVENT
BEGIN:VEVENT
DTSTAMP:20260421T124137Z
DTSTART;VALUE=DATE:20260828
SUMMARY:Sommerferien (Bayern) [Rm:Alle]
UID:1d3b3931-49dd-445d-ac63-f2bcd99ecb64
END:VEVENT
BEGIN:VEVENT
DTSTAMP:20260421T124137Z
DTSTART;VALUE=DATE:20260829
SUMMARY:Sommerferien (Bayern) [Rm:Alle]
UID:c5c49e26-45e9-4bb4-9ea6-92d1cb708ba7
END:VEVENT
BEGIN:VEVENT
DTSTAMP:20260421T124137Z
DTSTART;VALUE=DATE:20260830
SUMMARY:Sommerferien (Bayern) [Rm:Alle]
UID:f6bfbeb0-c682-4937-832b-ab9dff9f1a9d
END:VEVENT
BEGIN:VEVENT
DTSTAMP:20260421T124137Z
DTSTART;VALUE=DATE:20260831
SUMMARY:Sommerferien (Bayern) [Rm:Alle]
UID:11dcc788-c529-4fa3-bdcc-51eabbb3b043
END:VEVENT
BEGIN:VEVENT
DTSTAMP:20260421T124137Z
DTSTART;VALUE=DATE:20260901
SUMMARY:Sommerferien (Bayern) [Rm:Alle]
UID:8fb5ec65-2e37-4bf2-80ad-198c5fdf28f2
END:VEVENT
BEGIN:VEVENT
DTSTAMP:20260421T124137Z
DTSTART;VALUE=DATE:20260902
SUMMARY:Sommerferien (Bayern) [Rm:Alle]
UID:aa0d5d77-775a-4e20-ad55-cbc0f3f0ef5a
END:VEVENT
BEGIN:VEVENT
DTSTAMP:20260421T124137Z
DTSTART;VALUE=DATE:20260903
SUMMARY:Sommerferien (Bayern) [Rm:Alle]
UID:8640e79c-c966-42ee-beea-c447cf2b80a6
END:VEVENT
BEGIN:VEVENT
DTSTAMP:20260421T124137Z
DTSTART;VALUE=DATE:20260904
SUMMARY:Sommerferien (Bayern) [Rm:Alle]
UID:09c73ab3-90a6-4ba7-8fb1-b0dbdbd01c18
END:VEVENT
BEGIN:VEVENT
DTSTAMP:20260421T124137Z
DTSTART;VALUE=DATE:20260905
SUMMARY:Sommerferien (Bayern) [Rm:Alle]
UID:ccf3ee76-c474-4dcf-a36a-2fb0aabb9d9e
END:VEVENT
BEGIN:VEVENT
DTSTAMP:20260421T124137Z
DTSTART;VALUE=DATE:20260906
SUMMARY:Sommerferien (Bayern) [Rm:Alle]
UID:26dc579d-ade2-40cc-bce2-df413e418457
END:VEVENT
BEGIN:VEVENT
DTSTAMP:20260421T124137Z
DTSTART;VALUE=DATE:20260907
SUMMARY:Sommerferien (Bayern) [Rm:Alle]
UID:f7b2b9e6-17d9-47d2-9422-6c8b2818de3a
END:VEVENT
BEGIN:VEVENT
DTSTAMP:20260421T124137Z
DTSTART;VALUE=DATE:20260908
SUMMARY:Sommerferien (Bayern) [Rm:Alle]
UID:bec7a736-3813-47ef-b530-1568e35fda4e
END:VEVENT
BEGIN:VEVENT
DTSTAMP:20260421T124137Z
DTSTART;VALUE=DATE:20260909
SUMMARY:Sommerferien (Bayern) [Rm:Alle]
UID:2748926e-ce93-4bbd-9b51-16974feedede
END:VEVENT
BEGIN:VEVENT
DTSTAMP:20260421T124137Z
DTSTART;VALUE=DATE:20260910
SUMMARY:Sommerferien (Bayern) [Rm:Alle]
UID:57cdb21f-de5f-4f13-bef7-560ec0f34a70
END:VEVENT
BEGIN:VEVENT
DTSTAMP:20260421T124137Z
DTSTART;VALUE=DATE:20260911
SUMMARY:Sommerferien (Bayern) [Rm:Alle]
UID:c6541b55-25cd-4114-8fb5-113931b190b3
END:VEVENT
BEGIN:VEVENT
DTSTAMP:20260421T124137Z
DTSTART;VALUE=DATE:20260912
SUMMARY:Sommerferien (Bayern) [Rm:Alle]
UID:bdb222b5-7551-4d4c-8be9-53eaed7ee9a2
END:VEVENT
BEGIN:VEVENT
DTSTAMP:20260421T124137Z
DTSTART;VALUE=DATE:20260913
SUMMARY:Sommerferien (Bayern) [Rm:Alle]
UID:d1e02ee0-50d1-42d1-b868-09651e3e7021
END:VEVENT
BEGIN:VEVENT
DTSTAMP:20260421T124137Z
DTSTART;VALUE=DATE:20260914
SUMMARY:Sommerferien (Bayern) [Rm:Alle]
UID:3d82996d-a16c-4780-8363-8511161fbc41
END:VEVENT
BEGIN:VEVENT
DTSTAMP:20260421T124137Z
DTSTART;VALUE=DATE:20261003
SUMMARY:Tag der Deutschen Einheit [Rm:Alle]
UID:81267d90-6678-472b-930c-da3b78819390
END:VEVENT
BEGIN:VEVENT
DTSTAMP:20260421T124137Z
DTSTART;VALUE=DATE:20261101
SUMMARY:Allerheiligen [Rm:Alle]
UID:859bac0a-0202-49a4-82da-2e6135576413
END:VEVENT
BEGIN:VEVENT
DTSTAMP:20260421T124137Z
DTSTART;VALUE=DATE:20261102
SUMMARY:Herbstferien (Bayern) [Rm:Alle]
UID:7ee280cd-1682-4009-8b99-be92a0b55fb1
END:VEVENT
BEGIN:VEVENT
DTSTAMP:20260421T124137Z
DTSTART;VALUE=DATE:20261103
SUMMARY:Herbstferien (Bayern) [Rm:Alle]
UID:d98f99f5-77ec-4573-b211-3ad85cf904b6
END:VEVENT
BEGIN:VEVENT
DTSTAMP:20260421T124137Z
DTSTART;VALUE=DATE:20261104
SUMMARY:Herbstferien (Bayern) [Rm:Alle]
UID:e5f5c0fb-58e3-492e-9020-4d53a94c8184
END:VEVENT
BEGIN:VEVENT
DTSTAMP:20260421T124137Z
DTSTART;VALUE=DATE:20261105
SUMMARY:Herbstferien (Bayern) [Rm:Alle]
UID:20fa7a49-7f8d-42fa-988e-e92b41f649b3
END:VEVENT
BEGIN:VEVENT
DTSTAMP:20260421T124137Z
DTSTART;VALUE=DATE:20261106
SUMMARY:Herbstferien (Bayern) [Rm:Alle]
UID:14214188-66f6-4966-96e8-baf3186129c3
END:VEVENT
BEGIN:VEVENT
DTSTAMP:20260421T124137Z
DTSTART;VALUE=DATE:20261118
SUMMARY:Herbstferien (Bayern) [Rm:Alle]
UID:267cfc68-3978-480a-90f2-db283b9a7975
END:VEVENT
BEGIN:VEVENT
DTSTAMP:20260421T124137Z
DTSTART;VALUE=DATE:20261224
SUMMARY:Weihnachtsferien (Bayern) [Rm:Alle]
UID:5a568189-b411-4ffe-9e0e-646610b5abf4
END:VEVENT
BEGIN:VEVENT
DTSTAMP:20260421T124137Z
DTSTART;VALUE=DATE:20261225
SUMMARY:Weihnachtsferien (Bayern) [Rm:Alle]
UID:4b93e1c0-ca0c-4006-9db6-0a0df6dbb509
END:VEVENT
BEGIN:VEVENT
DTSTAMP:20260421T124137Z
DTSTART;VALUE=DATE:20261225
SUMMARY:1. Weihnachtsfeiertag [Rm:Alle]
UID:654f651f-950c-4792-8eab-e8aa5abd5ac5
END:VEVENT
BEGIN:VEVENT
DTSTAMP:20260421T124137Z
DTSTART;VALUE=DATE:20261226
SUMMARY:Weihnachtsferien (Bayern) [Rm:Alle]
UID:35827ee5-661c-4bc8-b8f6-82f7422dda22
END:VEVENT
BEGIN:VEVENT
DTSTAMP:20260421T124137Z
DTSTART;VALUE=DATE:20261226
SUMMARY:2. Weihnachtsfeiertag [Rm:Alle]
UID:452f28fb-fd8e-468d-8767-8705a0d22f24
END:VEVENT
BEGIN:VEVENT
DTSTAMP:20260421T124137Z
DTSTART;VALUE=DATE:20261227
SUMMARY:Weihnachtsferien (Bayern) [Rm:Alle]
UID:fef97c6a-ce14-4ae7-8ca9-711623f261e7
END:VEVENT
BEGIN:VEVENT
DTSTAMP:20260421T124137Z
DTSTART;VALUE=DATE:20261228
SUMMARY:Weihnachtsferien (Bayern) [Rm:Alle]
UID:27c79cf8-8d3e-4d0c-b88e-19d5617838b8
END:VEVENT
BEGIN:VEVENT
DTSTAMP:20260421T124137Z
DTSTART;VALUE=DATE:20261229
SUMMARY:Weihnachtsferien (Bayern) [Rm:Alle]
UID:ee2d10f2-458a-43c7-a6a1-ca8e2ca89356
END:VEVENT
BEGIN:VEVENT
DTSTAMP:20260421T124137Z
DTSTART;VALUE=DATE:20261230
SUMMARY:Weihnachtsferien (Bayern) [Rm:Alle]
UID:74f21640-148f-4a95-a357-6ad78e977a23
END:VEVENT
BEGIN:VEVENT
DTSTAMP:20260421T124137Z
DTSTART;VALUE=DATE:20261231
SUMMARY:Weihnachtsferien (Bayern) [Rm:Alle]
UID:4b3b484b-3a4b-4d85-95b2-390e29725473
END:VEVENT
END:VCALENDAR
